BEGIN:VCALENDAR
VERSION:2.0
PRODID:icalendar-ruby
CALSCALE:GREGORIAN
METHOD:PUBLISH
BEGIN:VEVENT
DTSTAMP:20260423T171307Z
UID:79-41841@mountainviewassembly.com
DTSTART:20260520T233000Z
DTEND:20260521T000000Z
CLASS:PUBLIC
CREATED:20260321T010410
DESCRIPTION:Tonight's meal will be scrambeled eggs\, sausage and pancakes.
   All ages are welcome to join us. Donations are accepted .
LAST-MODIFIED:20260321T010410
LOCATION:Mountain View Assembly of God
SUMMARY:Wednesday Night Meal
URL;VALUE=URI:https://www.mountainviewassembly.com/events/wednesday-night-m
 eal--79/2026-05-20
ATTACH;FILENAME=wednesday_night_meal-title-1-Wide-16x9.jpg;FMTTYPE=image/jp
 eg:https://dq5pwpg1q8ru0.cloudfront.net/2026/03/21/07/04/10/cd7a56e8-e84e-
 41c6-aa9d-26536e927327/wednesday_night_meal-title-1-Wide-16x9.jpg
END:VEVENT
END:VCALENDAR
