BEGIN:VCALENDAR
VERSION:2.0
PRODID:icalendar-ruby
CALSCALE:GREGORIAN
METHOD:PUBLISH
BEGIN:VEVENT
DTSTAMP:20260423T151212Z
UID:73-41835@mountainviewassembly.com
DTSTART:20260513T233000Z
DTEND:20260514T000000Z
CLASS:PUBLIC
CREATED:20260321T005451
DESCRIPTION:Tonight's meal will be sloppy joe\, corn\, salad and dessert. A
 ll ages are welcome to join us. Donations are accepted .
LAST-MODIFIED:20260321T005451
LOCATION:Mountain View Assembly of God
SUMMARY:Wednesday Night Meal
URL;VALUE=URI:https://www.mountainviewassembly.com/events/wednesday-night-m
 eal--73/2026-05-13
ATTACH;FILENAME=wednesday_night_meal-title-1-Wide-16x9.jpg;FMTTYPE=image/jp
 eg:https://dq5pwpg1q8ru0.cloudfront.net/2026/03/21/06/53/34/5a95947e-b2d9-
 4da0-9960-54438fe86357/wednesday_night_meal-title-1-Wide-16x9.jpg
END:VEVENT
END:VCALENDAR
